Package: RCX Version: 1.11.0 Command: /home/biocbuild/R/R/bin/R CMD INSTALL RCX StartedAt: 2025-01-29 19:35:32 -0000 (Wed, 29 Jan 2025) EndedAt: 2025-01-29 19:36:01 -0000 (Wed, 29 Jan 2025) EllapsedTime: 28.6 seconds RetCode: 0 Status: OK