Package: RCX Version: 1.11.0 Command: /Library/Frameworks/R.framework/Resources/bin/R CMD build --keep-empty-dirs --no-resave-data RCX StartedAt: 2025-02-09 18:06:35 -0500 (Sun, 09 Feb 2025) EndedAt: 2025-02-09 18:07:15 -0500 (Sun, 09 Feb 2025) EllapsedTime: 40.0 seconds RetCode: 0 Status: OK PackageFile: RCX_1.11.0.tar.gz PackageFileSize: 4.573 MiB