Package: RCX Version: 1.11.0 Command: /home/biocbuild/bbs-3.21-bioc/R/bin/R CMD build --keep-empty-dirs --no-resave-data RCX StartedAt: 2025-02-09 18:51:41 -0500 (Sun, 09 Feb 2025) EndedAt: 2025-02-09 18:52:03 -0500 (Sun, 09 Feb 2025) EllapsedTime: 22.0 seconds RetCode: 0 Status: OK PackageFile: RCX_1.11.0.tar.gz PackageFileSize: 4.574 MiB