Package: RCX Version: 1.11.0 Command: rm -rf RCX.buildbin-libdir && mkdir RCX.buildbin-libdir && E:\biocbuild\bbs-3.21-bioc\R\bin\R.exe CMD INSTALL --build --library=RCX.buildbin-libdir RCX_1.11.0.tar.gz StartedAt: 2025-02-10 08:29:50 -0500 (Mon, 10 Feb 2025) EndedAt: 2025-02-10 08:31:23 -0500 (Mon, 10 Feb 2025) EllapsedTime: 93.8 seconds RetCode: 0 Status: OK PackageFile: RCX_1.11.0.zip PackageFileSize: 3.615 MiB