Package: RCy3 Version: 2.27.0 Command: /home/biocbuild/R/R/bin/R CMD build --keep-empty-dirs --no-resave-data RCy3 StartedAt: 2025-01-29 01:34:01 -0000 (Wed, 29 Jan 2025) EndedAt: 2025-01-29 01:34:55 -0000 (Wed, 29 Jan 2025) EllapsedTime: 54.0 seconds RetCode: 0 Status: OK PackageFile: RCy3_2.27.0.tar.gz PackageFileSize: 7.351 MiB