Package: RCy3 Version: 2.27.0 Command: /Library/Frameworks/R.framework/Resources/bin/R CMD INSTALL RCy3 StartedAt: 2025-02-12 15:30:17 -0500 (Wed, 12 Feb 2025) EndedAt: 2025-02-12 15:30:36 -0500 (Wed, 12 Feb 2025) EllapsedTime: 18.5 seconds RetCode: 0 Status: OK