Package: RCy3 Version: 2.27.0 Command: /home/biocbuild/bbs-3.21-bioc/R/bin/R CMD build --keep-empty-dirs --no-resave-data RCy3 StartedAt: 2025-02-12 18:47:27 -0500 (Wed, 12 Feb 2025) EndedAt: 2025-02-12 18:48:00 -0500 (Wed, 12 Feb 2025) EllapsedTime: 33.1 seconds RetCode: 0 Status: OK PackageFile: RCy3_2.27.0.tar.gz PackageFileSize: 6.457 MiB