Package: RCy3 Version: 2.27.0 Command: rm -rf RCy3.buildbin-libdir && mkdir RCy3.buildbin-libdir && E:\biocbuild\bbs-3.21-bioc\R\bin\R.exe CMD INSTALL --build --library=RCy3.buildbin-libdir RCy3_2.27.0.tar.gz StartedAt: 2025-02-10 08:29:51 -0500 (Mon, 10 Feb 2025) EndedAt: 2025-02-10 08:32:31 -0500 (Mon, 10 Feb 2025) EllapsedTime: 159.5 seconds RetCode: 0 Status: OK PackageFile: RCy3_2.27.0.zip PackageFileSize: 7.343 MiB