Package: RCy3 Version: 2.27.0 Command: chmod a+r RCy3 -R && E:\biocbuild\bbs-3.21-bioc\R\bin\R.exe CMD build --keep-empty-dirs --no-resave-data RCy3 StartedAt: 2025-02-09 21:04:25 -0500 (Sun, 09 Feb 2025) EndedAt: 2025-02-09 21:12:31 -0500 (Sun, 09 Feb 2025) EllapsedTime: 486.4 seconds RetCode: 0 Status: OK PackageFile: RCy3_2.27.0.tar.gz PackageFileSize: 6.459 MiB