Package: RCy3 Version: 2.27.0 Command: E:\biocbuild\bbs-3.21-bioc\R\bin\R.exe CMD INSTALL RCy3 StartedAt: 2025-02-09 15:54:19 -0500 (Sun, 09 Feb 2025) EndedAt: 2025-02-09 15:56:27 -0500 (Sun, 09 Feb 2025) EllapsedTime: 127.5 seconds RetCode: 0 Status: OK