Package: RCyjs Version: 2.29.0 Command: /Library/Frameworks/R.framework/Resources/bin/R CMD check --install=check:RCyjs.install-out.txt --library=/Library/Frameworks/R.framework/Resources/library --no-vignettes --timings RCyjs_2.29.0.tar.gz StartedAt: 2025-02-04 20:54:54 -0500 (Tue, 04 Feb 2025) EndedAt: 2025-02-04 20:55:12 -0500 (Tue, 04 Feb 2025) EllapsedTime: 18.3 seconds RetCode: 0 Status: WARNINGS CheckDir: RCyjs.Rcheck Warnings: 1