Package: RCyjs Version: 2.29.0 Command: /Library/Frameworks/R.framework/Resources/bin/R CMD INSTALL RCyjs StartedAt: 2025-02-04 15:03:39 -0500 (Tue, 04 Feb 2025) EndedAt: 2025-02-04 15:03:46 -0500 (Tue, 04 Feb 2025) EllapsedTime: 6.5 seconds RetCode: 0 Status: OK