Package: RCyjs Version: 2.29.0 Command: /home/biocbuild/R/R/bin/R CMD INSTALL RCyjs StartedAt: 2025-01-29 19:36:08 -0000 (Wed, 29 Jan 2025) EndedAt: 2025-01-29 19:36:24 -0000 (Wed, 29 Jan 2025) EllapsedTime: 16.1 seconds RetCode: 0 Status: OK