Package: RCyjs Version: 2.29.0 Command: /home/biocbuild/bbs-3.21-bioc/R/bin/R CMD check --install=check:RCyjs.install-out.txt --library=/home/biocbuild/bbs-3.21-bioc/R/site-library --timings RCyjs_2.29.0.tar.gz StartedAt: 2025-02-05 01:52:21 -0500 (Wed, 05 Feb 2025) EndedAt: 2025-02-05 01:52:57 -0500 (Wed, 05 Feb 2025) EllapsedTime: 36.1 seconds RetCode: 0 Status: WARNINGS CheckDir: RCyjs.Rcheck Warnings: 1