Package: RCyjs Version: 2.29.0 Command: rm -rf RCyjs.buildbin-libdir && mkdir RCyjs.buildbin-libdir && E:\biocbuild\bbs-3.21-bioc\R\bin\R.exe CMD INSTALL --build --library=RCyjs.buildbin-libdir RCyjs_2.29.0.tar.gz StartedAt: 2025-02-10 08:29:54 -0500 (Mon, 10 Feb 2025) EndedAt: 2025-02-10 08:31:27 -0500 (Mon, 10 Feb 2025) EllapsedTime: 92.8 seconds RetCode: 0 Status: OK PackageFile: RCyjs_2.29.0.zip PackageFileSize: 1.014 MiB