Package: RCyjs Version: 2.29.0 Command: E:\biocbuild\bbs-3.21-bioc\R\bin\R.exe CMD INSTALL RCyjs StartedAt: 2025-02-09 15:29:16 -0500 (Sun, 09 Feb 2025) EndedAt: 2025-02-09 15:31:11 -0500 (Sun, 09 Feb 2025) EllapsedTime: 114.5 seconds RetCode: 0 Status: OK