Package: RDRToolbox Version: 1.57.0 Command: rm -rf RDRToolbox.buildbin-libdir && mkdir RDRToolbox.buildbin-libdir && /Users/biocbuild/BBS/utils/build-universal.sh RDRToolbox_1.57.0.tar.gz /Library/Frameworks/R.framework/Resources/bin/R RDRToolbox.buildbin-libdir StartedAt: 2025-02-09 22:26:56 -0500 (Sun, 09 Feb 2025) EndedAt: 2025-02-09 22:26:58 -0500 (Sun, 09 Feb 2025) EllapsedTime: 2.1 seconds RetCode: 0 Status: OK PackageFile: RDRToolbox_1.57.0.tgz PackageFileSize: 188.3 KiB