Package: RDRToolbox Version: 1.57.0 Command: /home/biocbuild/R/R/bin/R CMD build --keep-empty-dirs --no-resave-data RDRToolbox StartedAt: 2025-01-29 01:34:16 -0000 (Wed, 29 Jan 2025) EndedAt: 2025-01-29 01:34:27 -0000 (Wed, 29 Jan 2025) EllapsedTime: 11.0 seconds RetCode: 0 Status: OK PackageFile: RDRToolbox_1.57.0.tar.gz PackageFileSize: 176.9 KiB