Package: RDRToolbox Version: 1.57.0 Command: rm -rf RDRToolbox.buildbin-libdir && mkdir RDRToolbox.buildbin-libdir && /Users/biocbuild/BBS/utils/build-universal.sh RDRToolbox_1.57.0.tar.gz /Library/Frameworks/R.framework/Resources/bin/R RDRToolbox.buildbin-libdir StartedAt: 2025-02-10 01:10:55 -0500 (Mon, 10 Feb 2025) EndedAt: 2025-02-10 01:11:01 -0500 (Mon, 10 Feb 2025) EllapsedTime: 5.6 seconds RetCode: 0 Status: OK PackageFile: RDRToolbox_1.57.0.tgz PackageFileSize: 188.1 KiB