Package: RDRToolbox Version: 1.57.0 Command: /Library/Frameworks/R.framework/Resources/bin/R CMD INSTALL RDRToolbox StartedAt: 2025-02-09 15:24:12 -0500 (Sun, 09 Feb 2025) EndedAt: 2025-02-09 15:24:17 -0500 (Sun, 09 Feb 2025) EllapsedTime: 4.6 seconds RetCode: 0 Status: OK