Package: RDRToolbox Version: 1.57.0 Command: /home/biocbuild/bbs-3.21-bioc/R/bin/R CMD build --keep-empty-dirs --no-resave-data RDRToolbox StartedAt: 2025-02-09 18:51:54 -0500 (Sun, 09 Feb 2025) EndedAt: 2025-02-09 18:52:07 -0500 (Sun, 09 Feb 2025) EllapsedTime: 13.0 seconds RetCode: 0 Status: OK PackageFile: RDRToolbox_1.57.0.tar.gz PackageFileSize: 190.4 KiB