Package: RDRToolbox Version: 1.57.0 Command: /home/biocbuild/bbs-3.21-bioc/R/bin/R CMD check --install=check:RDRToolbox.install-out.txt --library=/home/biocbuild/bbs-3.21-bioc/R/site-library --timings RDRToolbox_1.57.0.tar.gz StartedAt: 2025-02-10 01:45:41 -0500 (Mon, 10 Feb 2025) EndedAt: 2025-02-10 01:46:28 -0500 (Mon, 10 Feb 2025) EllapsedTime: 47.3 seconds RetCode: 0 Status: OK CheckDir: RDRToolbox.Rcheck Warnings: 0