Package: RDRToolbox Version: 1.57.0 Command: /home/biocbuild/bbs-3.21-bioc/R/bin/R CMD INSTALL RDRToolbox StartedAt: 2025-02-12 15:07:45 -0500 (Wed, 12 Feb 2025) EndedAt: 2025-02-12 15:08:33 -0500 (Wed, 12 Feb 2025) EllapsedTime: 48.1 seconds RetCode: 0 Status: OK