Package: RDRToolbox Version: 1.57.0 Command: chmod a+r RDRToolbox -R && E:\biocbuild\bbs-3.21-bioc\R\bin\R.exe CMD build --keep-empty-dirs --no-resave-data RDRToolbox StartedAt: 2025-02-04 21:07:17 -0500 (Tue, 04 Feb 2025) EndedAt: 2025-02-04 21:07:50 -0500 (Tue, 04 Feb 2025) EllapsedTime: 32.7 seconds RetCode: 0 Status: OK PackageFile: RDRToolbox_1.57.0.tar.gz PackageFileSize: 191 KiB