Package: RDRToolbox Version: 1.57.0 Command: E:\biocbuild\bbs-3.21-bioc\R\bin\R.exe CMD check --no-multiarch --install=check:RDRToolbox.install-out.txt --library=E:\biocbuild\bbs-3.21-bioc\R\library --no-vignettes --timings RDRToolbox_1.57.0.tar.gz StartedAt: 2025-02-05 04:58:07 -0500 (Wed, 05 Feb 2025) EndedAt: 2025-02-05 04:58:59 -0500 (Wed, 05 Feb 2025) EllapsedTime: 51.6 seconds RetCode: 0 Status: OK CheckDir: RDRToolbox.Rcheck Warnings: 0