Package: REMP Version: 1.31.0 Command: /Library/Frameworks/R.framework/Resources/bin/R CMD INSTALL REMP StartedAt: 2025-02-09 15:27:06 -0500 (Sun, 09 Feb 2025) EndedAt: 2025-02-09 15:27:29 -0500 (Sun, 09 Feb 2025) EllapsedTime: 23.3 seconds RetCode: 0 Status: OK