Package: REMP Version: 1.31.0 Command: rm -rf REMP.buildbin-libdir && mkdir REMP.buildbin-libdir && E:\biocbuild\bbs-3.21-bioc\R\bin\R.exe CMD INSTALL --build --library=REMP.buildbin-libdir REMP_1.31.0.tar.gz StartedAt: 2025-02-10 08:31:58 -0500 (Mon, 10 Feb 2025) EndedAt: 2025-02-10 08:33:20 -0500 (Mon, 10 Feb 2025) EllapsedTime: 81.8 seconds RetCode: 0 Status: OK PackageFile: REMP_1.31.0.zip PackageFileSize: 695.4 KiB