Package: REMP Version: 1.31.0 Command: chmod a+r REMP -R && E:\biocbuild\bbs-3.21-bioc\R\bin\R.exe CMD build --keep-empty-dirs --no-resave-data REMP StartedAt: 2025-02-09 21:07:11 -0500 (Sun, 09 Feb 2025) EndedAt: 2025-02-09 21:10:09 -0500 (Sun, 09 Feb 2025) EllapsedTime: 177.7 seconds RetCode: 0 Status: OK PackageFile: REMP_1.31.0.tar.gz PackageFileSize: 191.5 KiB