Package: REMP Version: 1.31.0 Command: E:\biocbuild\bbs-3.21-bioc\R\bin\R.exe CMD check --no-multiarch --install=check:REMP.install-out.txt --library=E:\biocbuild\bbs-3.21-bioc\R\library --no-vignettes --timings REMP_1.31.0.tar.gz StartedAt: 2025-02-13 04:46:10 -0500 (Thu, 13 Feb 2025) EndedAt: 2025-02-13 04:55:32 -0500 (Thu, 13 Feb 2025) EllapsedTime: 562.8 seconds RetCode: 0 Status: OK CheckDir: REMP.Rcheck Warnings: 0