Package: RESOLVE Version: 1.9.0 Command: /Library/Frameworks/R.framework/Resources/bin/R CMD INSTALL RESOLVE StartedAt: 2025-02-09 15:29:24 -0500 (Sun, 09 Feb 2025) EndedAt: 2025-02-09 15:29:39 -0500 (Sun, 09 Feb 2025) EllapsedTime: 15.4 seconds RetCode: 0 Status: OK