Package: RESOLVE Version: 1.9.0 Command: /home/biocbuild/R/R/bin/R CMD INSTALL RESOLVE StartedAt: 2025-01-29 20:36:30 -0000 (Wed, 29 Jan 2025) EndedAt: 2025-01-29 20:37:24 -0000 (Wed, 29 Jan 2025) EllapsedTime: 53.9 seconds RetCode: 0 Status: OK