Package: RESOLVE Version: 1.9.0 Command: rm -rf RESOLVE.buildbin-libdir && mkdir RESOLVE.buildbin-libdir && /Users/biocbuild/BBS/utils/build-universal.sh RESOLVE_1.9.0.tar.gz /Library/Frameworks/R.framework/Resources/bin/R RESOLVE.buildbin-libdir StartedAt: 2025-02-10 01:11:25 -0500 (Mon, 10 Feb 2025) EndedAt: 2025-02-10 01:12:19 -0500 (Mon, 10 Feb 2025) EllapsedTime: 54.1 seconds RetCode: 0 Status: OK PackageFile: RESOLVE_1.9.0.tgz PackageFileSize: 888.4 KiB