Package: RESOLVE Version: 1.9.0 Command: /Library/Frameworks/R.framework/Resources/bin/R CMD build --keep-empty-dirs --no-resave-data RESOLVE StartedAt: 2025-02-09 18:08:51 -0500 (Sun, 09 Feb 2025) EndedAt: 2025-02-09 18:10:01 -0500 (Sun, 09 Feb 2025) EllapsedTime: 69.8 seconds RetCode: 0 Status: OK PackageFile: RESOLVE_1.9.0.tar.gz PackageFileSize: 735.5 KiB