Package: RESOLVE Version: 1.9.0 Command: /Library/Frameworks/R.framework/Resources/bin/R CMD INSTALL RESOLVE StartedAt: 2025-02-09 15:45:30 -0500 (Sun, 09 Feb 2025) EndedAt: 2025-02-09 15:46:20 -0500 (Sun, 09 Feb 2025) EllapsedTime: 50.1 seconds RetCode: 0 Status: OK