Package: RESOLVE Version: 1.9.0 Command: /home/biocbuild/bbs-3.21-bioc/R/bin/R CMD build --keep-empty-dirs --no-resave-data RESOLVE StartedAt: 2025-02-03 19:02:53 -0500 (Mon, 03 Feb 2025) EndedAt: 2025-02-03 19:03:51 -0500 (Mon, 03 Feb 2025) EllapsedTime: 58.1 seconds RetCode: 0 Status: OK PackageFile: RESOLVE_1.9.0.tar.gz PackageFileSize: 737.9 KiB