Package: RESOLVE Version: 1.9.0 Command: /home/biocbuild/bbs-3.21-bioc/R/bin/R CMD INSTALL RESOLVE StartedAt: 2025-02-09 15:43:51 -0500 (Sun, 09 Feb 2025) EndedAt: 2025-02-09 15:44:29 -0500 (Sun, 09 Feb 2025) EllapsedTime: 37.9 seconds RetCode: 0 Status: OK