Package: RESOLVE Version: 1.9.0 Command: chmod a+r RESOLVE -R && E:\biocbuild\bbs-3.21-bioc\R\bin\R.exe CMD build --keep-empty-dirs --no-resave-data RESOLVE StartedAt: 2025-02-03 21:22:03 -0500 (Mon, 03 Feb 2025) EndedAt: 2025-02-03 21:23:24 -0500 (Mon, 03 Feb 2025) EllapsedTime: 81.5 seconds RetCode: 0 Status: OK PackageFile: RESOLVE_1.9.0.tar.gz PackageFileSize: 717.6 KiB