Package: RGMQL Version: 1.27.1 Command: /home/biocbuild/R/R/bin/R CMD build --keep-empty-dirs --no-resave-data RGMQL StartedAt: 2025-01-29 01:39:49 -0000 (Wed, 29 Jan 2025) EndedAt: 2025-01-29 01:40:54 -0000 (Wed, 29 Jan 2025) EllapsedTime: 65.0 seconds RetCode: 1 Status: ERROR PackageFile: None PackageFileSize: NA