Package: RGMQL Version: 1.27.1 Command: /home/biocbuild/R/R/bin/R CMD INSTALL RGMQL StartedAt: 2025-01-29 19:53:32 -0000 (Wed, 29 Jan 2025) EndedAt: 2025-01-29 19:54:23 -0000 (Wed, 29 Jan 2025) EllapsedTime: 50.7 seconds RetCode: 0 Status: OK