Package: RGMQL Version: 1.27.1 Command: /home/biocbuild/bbs-3.21-bioc/R/bin/R CMD build --keep-empty-dirs --no-resave-data RGMQL StartedAt: 2025-02-10 19:03:49 -0500 (Mon, 10 Feb 2025) EndedAt: 2025-02-10 19:04:40 -0500 (Mon, 10 Feb 2025) EllapsedTime: 51.1 seconds RetCode: 1 Status: ERROR PackageFile: None PackageFileSize: NA