Package: RGMQL Version: 1.27.1 Command: /home/biocbuild/bbs-3.21-bioc/R/bin/R CMD INSTALL RGMQL StartedAt: 2025-02-10 15:34:46 -0500 (Mon, 10 Feb 2025) EndedAt: 2025-02-10 15:35:22 -0500 (Mon, 10 Feb 2025) EllapsedTime: 36.8 seconds RetCode: 0 Status: OK