Package: RGMQL Version: 1.27.1 Command: chmod a+r RGMQL -R && E:\biocbuild\bbs-3.21-bioc\R\bin\R.exe CMD build --keep-empty-dirs --no-resave-data RGMQL StartedAt: 2025-02-10 21:21:59 -0500 (Mon, 10 Feb 2025) EndedAt: 2025-02-10 21:24:41 -0500 (Mon, 10 Feb 2025) EllapsedTime: 162.8 seconds RetCode: 1 Status: ERROR PackageFile: None PackageFileSize: NA