Package: RGMQL Version: 1.27.1 Command: E:\biocbuild\bbs-3.21-bioc\R\bin\R.exe CMD INSTALL RGMQL StartedAt: 2025-02-10 16:13:56 -0500 (Mon, 10 Feb 2025) EndedAt: 2025-02-10 16:16:44 -0500 (Mon, 10 Feb 2025) EllapsedTime: 168.4 seconds RetCode: 0 Status: OK