Package: RGraph2js Version: 1.35.0 Command: /Library/Frameworks/R.framework/Resources/bin/R CMD check --install=check:RGraph2js.install-out.txt --library=/Library/Frameworks/R.framework/Resources/library --no-vignettes --timings RGraph2js_1.35.0.tar.gz StartedAt: 2025-02-09 20:57:20 -0500 (Sun, 09 Feb 2025) EndedAt: 2025-02-09 20:57:33 -0500 (Sun, 09 Feb 2025) EllapsedTime: 13.2 seconds RetCode: 0 Status: OK CheckDir: RGraph2js.Rcheck Warnings: 0