Package: RGraph2js Version: 1.35.0 Command: /Library/Frameworks/R.framework/Resources/bin/R CMD INSTALL RGraph2js StartedAt: 2025-02-12 15:08:20 -0500 (Wed, 12 Feb 2025) EndedAt: 2025-02-12 15:08:22 -0500 (Wed, 12 Feb 2025) EllapsedTime: 1.6 seconds RetCode: 0 Status: OK