Package: RGraph2js Version: 1.35.0 Command: /home/biocbuild/bbs-3.21-bioc/R/bin/R CMD build --keep-empty-dirs --no-resave-data RGraph2js StartedAt: 2025-02-09 18:54:54 -0500 (Sun, 09 Feb 2025) EndedAt: 2025-02-09 18:55:05 -0500 (Sun, 09 Feb 2025) EllapsedTime: 11.0 seconds RetCode: 0 Status: OK PackageFile: RGraph2js_1.35.0.tar.gz PackageFileSize: 2.344 MiB