Package: RGraph2js Version: 1.35.0 Command: /home/biocbuild/bbs-3.21-bioc/R/bin/R CMD check --install=check:RGraph2js.install-out.txt --library=/home/biocbuild/bbs-3.21-bioc/R/site-library --timings RGraph2js_1.35.0.tar.gz StartedAt: 2025-02-10 01:53:13 -0500 (Mon, 10 Feb 2025) EndedAt: 2025-02-10 01:53:46 -0500 (Mon, 10 Feb 2025) EllapsedTime: 32.0 seconds RetCode: 0 Status: OK CheckDir: RGraph2js.Rcheck Warnings: 0