Package: RGraph2js Version: 1.35.0 Command: chmod a+r RGraph2js -R && E:\biocbuild\bbs-3.21-bioc\R\bin\R.exe CMD build --keep-empty-dirs --no-resave-data RGraph2js StartedAt: 2025-02-12 21:16:30 -0500 (Wed, 12 Feb 2025) EndedAt: 2025-02-12 21:17:05 -0500 (Wed, 12 Feb 2025) EllapsedTime: 35.9 seconds RetCode: 0 Status: OK PackageFile: RGraph2js_1.35.0.tar.gz PackageFileSize: 2.348 MiB