Package: RGraph2js Version: 1.35.0 Command: E:\biocbuild\bbs-3.21-bioc\R\bin\R.exe CMD INSTALL RGraph2js StartedAt: 2025-02-12 15:34:38 -0500 (Wed, 12 Feb 2025) EndedAt: 2025-02-12 15:34:56 -0500 (Wed, 12 Feb 2025) EllapsedTime: 17.7 seconds RetCode: 0 Status: OK