Package: RITAN Version: 1.31.0 Command: rm -rf RITAN.buildbin-libdir && mkdir RITAN.buildbin-libdir && /Users/biocbuild/BBS/utils/build-universal.sh RITAN_1.31.0.tar.gz /Library/Frameworks/R.framework/Resources/bin/R RITAN.buildbin-libdir StartedAt: 2025-02-09 22:27:52 -0500 (Sun, 09 Feb 2025) EndedAt: 2025-02-09 22:28:10 -0500 (Sun, 09 Feb 2025) EllapsedTime: 18.3 seconds RetCode: 0 Status: OK PackageFile: RITAN_1.31.0.tgz PackageFileSize: 972 KiB